BEGIN:VCALENDAR
VERSION:2.0
PRODID:-//KI.M -KI &amp; Mobiltät in Österreich - ECPv6.15.20//NONSGML v1.0//EN
CALSCALE:GREGORIAN
METHOD:PUBLISH
X-WR-CALNAME:KI.M -KI &amp; Mobiltät in Österreich
X-ORIGINAL-URL:https://kim-projekt.at
X-WR-CALDESC:Veranstaltungen für KI.M -KI &amp; Mobiltät in Österreich
REFRESH-INTERVAL;VALUE=DURATION:PT1H
X-Robots-Tag:noindex
X-PUBLISHED-TTL:PT1H
BEGIN:VTIMEZONE
TZID:Europe/Helsinki
BEGIN:DAYLIGHT
TZOFFSETFROM:+0200
TZOFFSETTO:+0300
TZNAME:EEST
DTSTART:20250330T010000
END:DAYLIGHT
BEGIN:STANDARD
TZOFFSETFROM:+0300
TZOFFSETTO:+0200
TZNAME:EET
DTSTART:20251026T010000
END:STANDARD
BEGIN:DAYLIGHT
TZOFFSETFROM:+0200
TZOFFSETTO:+0300
TZNAME:EEST
DTSTART:20260329T010000
END:DAYLIGHT
BEGIN:STANDARD
TZOFFSETFROM:+0300
TZOFFSETTO:+0200
TZNAME:EET
DTSTART:20261025T010000
END:STANDARD
BEGIN:DAYLIGHT
TZOFFSETFROM:+0200
TZOFFSETTO:+0300
TZNAME:EEST
DTSTART:20270328T010000
END:DAYLIGHT
BEGIN:STANDARD
TZOFFSETFROM:+0300
TZOFFSETTO:+0200
TZNAME:EET
DTSTART:20271031T010000
END:STANDARD
END:VTIMEZONE
BEGIN:VEVENT
DTSTART;TZID=Europe/Helsinki:20260420T080000
DTEND;TZID=Europe/Helsinki:20260421T170000
DTSTAMP:20260421T222509
CREATED:20251023T063348Z
LAST-MODIFIED:20251023T064223Z
UID:1230-1776672000-1776790800@kim-projekt.at
SUMMARY:Mobilitätskonferenz 2026
DESCRIPTION:Wie sieht die Mobilität von morgen aus?Das Bundesministerium für Innovation\, Mobilität und Infrastruktur (BMIMI) lädt zur Mobilitätskonferenz 2026 ein – zwei Tage voller Austausch\, Ideen und Impulse rund um die Zukunft unserer Mobilität. \nFreuen Sie sich auf spannende Dialogsessions mit Expert:innen aus Verwaltung\, Wissenschaft und Wirtschaft sowie auf Side-Events\, die aktuelle Initiativen des Ministeriums vorstellen. \nDie Themen der Konferenz berühren viele Bereiche\, die auch im KI.M-Projekt – Künstliche Intelligenz in der Mobilität eine zentrale Rolle spielen: datenbasierte Entscheidungen\, intelligente Systeme und nachhaltige Lösungen für klimaneutrale Städte. \nEin Termin\, den man sich vormerken sollte – für alle\, die Mobilität neu denken wollen.
URL:https://kim-projekt.at/event/mobilitaetskonferenz-2026/
LOCATION:BMIMI (Radetzkystraße 2\, 1020 Wien)
CATEGORIES:Events,Upcoming Events
ATTACH;FMTTYPE=image/png:https://kim-projekt.at/wp-content/uploads/2025/10/Vorlage-DIO-Events-1024x576-3.png
END:VEVENT
END:VCALENDAR