BEGIN:VCALENDAR
VERSION:2.0
PRODID:-//KI.M -KI &amp; Mobiltät in Österreich - ECPv6.15.20//NONSGML v1.0//EN
CALSCALE:GREGORIAN
METHOD:PUBLISH
X-ORIGINAL-URL:https://kim-projekt.at
X-WR-CALDESC:Veranstaltungen für KI.M -KI &amp; Mobiltät in Österreich
REFRESH-INTERVAL;VALUE=DURATION:PT1H
X-Robots-Tag:noindex
X-PUBLISHED-TTL:PT1H
BEGIN:VTIMEZONE
TZID:Europe/Helsinki
BEGIN:DAYLIGHT
TZOFFSETFROM:+0200
TZOFFSETTO:+0300
TZNAME:EEST
DTSTART:20250330T010000
END:DAYLIGHT
BEGIN:STANDARD
TZOFFSETFROM:+0300
TZOFFSETTO:+0200
TZNAME:EET
DTSTART:20251026T010000
END:STANDARD
BEGIN:DAYLIGHT
TZOFFSETFROM:+0200
TZOFFSETTO:+0300
TZNAME:EEST
DTSTART:20260329T010000
END:DAYLIGHT
BEGIN:STANDARD
TZOFFSETFROM:+0300
TZOFFSETTO:+0200
TZNAME:EET
DTSTART:20261025T010000
END:STANDARD
BEGIN:DAYLIGHT
TZOFFSETFROM:+0200
TZOFFSETTO:+0300
TZNAME:EEST
DTSTART:20270328T010000
END:DAYLIGHT
BEGIN:STANDARD
TZOFFSETFROM:+0300
TZOFFSETTO:+0200
TZNAME:EET
DTSTART:20271031T010000
END:STANDARD
END:VTIMEZONE
BEGIN:VEVENT
DTSTART;TZID=Europe/Helsinki:20260507T090000
DTEND;TZID=Europe/Helsinki:20260508T150000
DTSTAMP:20260421T174617
CREATED:20260216T123210Z
LAST-MODIFIED:20260216T123210Z
UID:1287-1778144400-1778252400@kim-projekt.at
SUMMARY:100 Jahre ÖVG – Jubiläumstagung & European Transport Congress
DESCRIPTION:Anlässlich ihres 100-jährigen Bestehens veranstaltet die Österreichische Verkehrswissenschaftliche Gesellschaft (ÖVG) eine internationale Jubiläumstagung im Rahmen des European Transport Congress. Die Konferenz würdigt nicht nur ein Jahrhundert verkehrswissenschaftlicher Arbeit\, sondern richtet den Blick klar auf die zukünftige Entwicklung der Mobilität in Europa. \nDie Veranstaltung bringt hochrangige Vertreter:innen aus Wissenschaft\, Politik\, Verwaltung\, Wirtschaft und Infrastruktur zusammen\, um zentrale Fragestellungen der Verkehrs- und Mobilitätsentwicklung zu diskutieren. Im Fokus stehen aktuelle Herausforderungen wie Klimaneutralität\, Digitalisierung\, europäische Verkehrspolitik\, Resilienz von Infrastrukturen sowie die Integration innovativer Technologien in bestehende Verkehrssysteme. \nThematisch werden unter anderem folgende Schwerpunkte behandelt: \n\nNachhaltige und klimafreundliche Verkehrssysteme\nDigitalisierung\, Datenräume und intelligente Verkehrslösungen\nEuropäische Strategien und regulatorische Rahmenbedingungen\nMultimodalität\, urbane Mobilitätskonzepte und Infrastrukturentwicklung\nForschung\, Innovation und praxisnahe Umsetzung\n\nDie Jubiläumstagung bietet ein vielfältiges Programm mit Keynotes\, Fachvorträgen\, Paneldiskussionen und internationalen Beiträgen. Ziel ist es\, wissenschaftliche Erkenntnisse mit praktischer Anwendung zu verbinden und den fachlichen Austausch auf europäischer Ebene zu stärken. \nFür Akteur:innen im Bereich nachhaltiger Mobilität\, Digitalisierung und datenbasierter Entscheidungsunterstützung bietet die Veranstaltung eine wertvolle Plattform zur Vernetzung\, zum Wissenstransfer und zur Diskussion zukünftiger Entwicklungen im Verkehrssektor.
URL:https://kim-projekt.at/event/100-jahre-oevg-jubilaeumstagung-european-transport-congress/
LOCATION:Kuppelsaal der TU Wien\, Karlsplatz 13\, Wien\, 1040
CATEGORIES:Events,Upcoming Events
ATTACH;FMTTYPE=image/png:https://kim-projekt.at/wp-content/uploads/2026/02/Vorlage-DIO-Events-1024x576-2.png
END:VEVENT
END:VCALENDAR